BEGIN:VCALENDAR
VERSION:2.0
BEGIN:VEVENT
URL:https://www.voisins.today/index.php/events/viewevent/95-gouter-des-anciens?groupid=53 
DTSTART:20180602T150000
DTEND:20180602T171500
SUMMARY:Goûter des anciens
DESCRIPTION:<p>Le goûter des anciens se déroule au Centre Alfred de Vigny le 2 juin.<br /></p>Un moment convivial.<br />
LOCATION:Centre Alfred de Vigny
END:VEVENT
END:VCALENDAR