BEGIN:VCALENDAR
VERSION:2.0
BEGIN:VEVENT
URL:https://www.voisins.today/index.php/events/viewevent/72-fete-de-l-ete-2017?groupid=3 
DTSTART:20170616T193000
DTEND:20170617T004500
SUMMARY:fête de l'été 2017
DESCRIPTION:<p>fête de l'été 2017</p><br /><p>bonjour, la prochaine fête de l'été aura lieu le vendredi 16 juin 2017 à partir de 19h30 . Comme chaque année, venez vite nous y retrouver et partager un bon moment nous comptons sur vous.</p>
LOCATION:derrière l'école du bois de la garenne proche de l'avenue du plan de l'église  voisins le bretonneux
END:VEVENT
END:VCALENDAR