BEGIN:VCALENDAR
VERSION:2.0
BEGIN:VEVENT
URL:https://www.voisins.today/index.php/events/viewevent/71-fete-de-l-ete-2017?groupid=3 
DTSTART:20170601T193000
DTEND:20170602T003000
SUMMARY:fête de l'été 2017 
DESCRIPTION:<p>bonjour, </p><p>la prochaine fête de l'été aura lieu le vendredi 16 juin 2017 à partir de 19h30 .</p><p>Comme chaque année, venez vite nous y retrouver et partager un bon moment</p><p>nous comptons sur vous.  <br /></p>
LOCATION:derrière l'école du bois de la garenne à voisins le bretonneux 
END:VEVENT
END:VCALENDAR