BEGIN:VCALENDAR
VERSION:2.0
BEGIN:VEVENT
URL:https://www.voisins.today/index.php/events/viewevent/42-repas-de-noel-du-secours-catholique-de-voisins?groupid=33 
DTSTART:20161225T120000
DTEND:20161225T163000
SUMMARY:Repas de Noël du Secours Catholique de Voisins
DESCRIPTION:<p>Le Secours Catholique de Voisins, aidé par la Mairie de Voisins le Bretonneux, organise comme chaque année son <strong>traditionnel déjeuner de Noël,</strong>
 le 25 décembre 2016, pour les personnes se trouvant dans la solitude et
 qui aimeraient partager la joie de Noël avec d'autres, dans une 
ambiance festive et familiale. <br /></p><p>Cependant cette fête ne pourra pas avoir lieu, sans la présence active de bénévoles, qui sont sollicités à cette occasion.</p><p>Pour participer: <strong>inscription obligatoire</strong>, auprès de la responsable du Secours Catholique de Voisins: Marie-Odile Hesnard au 01 39 44 02 05</p>
LOCATION:Voisins le Bretonneux
END:VEVENT
END:VCALENDAR