BEGIN:VCALENDAR
VERSION:2.0
BEGIN:VEVENT
URL:https://www.voisins.today/index.php/events/viewevent/38-pastel-encre-et-encres-de-couleur?groupid=38 
DTSTART:20161121T163000
DTEND:20161127T194500
SUMMARY:Pastel/encre et encres de Couleur
DESCRIPTION:<p><span style="color: rgb(102, 102, 102);">Découvrez le talent des maîtres et des élèves s'exerçant à l'art du pastel et des encres. Une exposition riche rendue possible grâce à un enseignement de qualité et l'intervention d'artistes de renommée internationale et passionnés par le sujet. S'associent aux élèves les pastellistes et maîtres Pastellistes : Jean Claude BAUMIER, Patrice BOURDIN, Christine DUMONT, Patrick HENRY, David HERVELIN, Catherine HUTTER, Patrice LATGER et Patrick MARTIN</span></p><p><span style="color: rgb(102, 102, 102);">Sur place, l'association propose des démonstrations les 19, 20 et 26 novembre à partir de 16 heures.</span></p>
LOCATION:Maison DECAUVILLE
END:VEVENT
END:VCALENDAR