BEGIN:VCALENDAR
VERSION:2.0
BEGIN:VEVENT
URL:https://www.voisins.today/index.php/events/viewevent/30-une-fleur-sur-les-ruines 
DTSTART:20161118T204500
DTEND:20161120T153000
SUMMARY:Une fleur sur les ruines
DESCRIPTION:<p style="margin-bottom: 0px; color: rgb(0, 0, 0); font-family: &quot;Times New Roman&quot;; font-size: medium;">En mai 1944, dans un immeuble d’Angers, huit voisins de palier s’épient, s’évitent et se détestent !</p><p style="margin-bottom: 0px; color: rgb(0, 0, 0); font-family: &quot;Times New Roman&quot;; font-size: medium;">Ils vont devoir cependant vivre ensemble, laisser tomber les cloisons et montrer leurs failles.</p><p style="margin-bottom: 0px; color: rgb(0, 0, 0); font-family: &quot;Times New Roman&quot;; font-size: medium;">Dans un huis clos propice aux révélations, ils nous entraînent dans un tourbillon de mensonges, de bassesses, de rire et d’émotions.</p><br /><p style="margin-bottom: 0px; color: rgb(0, 0, 0); font-family: &quot;Times New Roman&quot;; font-size: medium;">3 représentations les 18-19 novembre à 20:45 et 20 novembre 2016 à 15:30</p><p style="margin-bottom: 0px; color: rgb(0, 0, 0); font-family: &quot;Times New Roman&quot;; font-size: medium;">Entrées 10 €/5 € au profit des associations BALISQY et MEDIAS HANDICAP.</p><p style="margin-bottom: 0px; color: rgb(0, 0, 0); font-family: &quot;Times New Roman&quot;; font-size: medium;">Plus d'infos et pré-réservations sur notre blog: www.ptdb78.blogspot.com</p>
LOCATION:Espace Decauville, Salle de la Tour, 5 place de la Division Leclerc-Voisins
END:VEVENT
END:VCALENDAR