BEGIN:VCALENDAR
VERSION:2.0
BEGIN:VEVENT
URL:https://www.voisins.today/index.php/events/viewevent/24-mutuelle-de-village-entretiens-individuels?groupid=21 
DTSTART:20161019T140000
DTEND:20161019T170000
SUMMARY:Mutuelle de Village : entretiens individuels
DESCRIPTION:<p>Vous vivez ou travaillez à Voisins ? Vous cherchez une complémentaire ou une surcomplémentaire à tarifs négociés ? Venez nous rencontrez le 19 octobre après-midi à la Maison des Associations (Avenue du plan de l'église). Nous étudierons votre dossier individuellement. Pensez à prendre rendez-vous à l'avance au 01 77 69 55 64.<br /></p>
LOCATION:Maison des Associations, Avenue du Plan de l'Eglise à Voisins
END:VEVENT
END:VCALENDAR