BEGIN:VCALENDAR
VERSION:2.0
BEGIN:VEVENT
URL:https://www.voisins.today/index.php/events/viewevent/20-fibre-optique-reunion-publique?groupid=4 
DTSTART:20161018T190000
DTEND:20161018T210000
SUMMARY:Fibre optique : réunion publique
DESCRIPTION:<p>Une réunion publique d’information sur la Fibre optique aura lieu le 
mardi 18 octobre à 19h à la Mairie, salle du Conseil municipal. Elle 
portera principalement sur le déploiement de la fibre sur le territoire 
vicinois.</p>
<p>Cabinet du Maire - 01 30 48 58 75</p>
LOCATION:Salle du Conseil - Voisins le Bretonneux
END:VEVENT
END:VCALENDAR