BEGIN:VCALENDAR
VERSION:2.0
BEGIN:VEVENT
URL:https://www.voisins.today/index.php/events/viewevent/14-reunion-publique-sur-l-eau?groupid=3 
DTSTART:20161124T203000
DTEND:20161124T220000
SUMMARY:Réunion publique sur l'eau
DESCRIPTION:Idée : réunion publique sur l'eau le jeudi 24 novembre 2017
LOCATION:Voisins le Bretonneux
END:VEVENT
END:VCALENDAR