BEGIN:VCALENDAR
VERSION:2.0
BEGIN:VEVENT
URL:https://www.voisins.today/index.php/events/viewevent/126-veilleurs-en-voisins-assemblee-generale?groupid=53 
DTSTART:20191209T203000
DTEND:20191209T230000
SUMMARY:Veilleurs en Voisins - Assemblée Générale
DESCRIPTION:
LOCATION:Maison des Associations - 37 avenue du Plan de l'Eglise - 78960 Voisins-le-Bretonneux
END:VEVENT
END:VCALENDAR