BEGIN:VCALENDAR
VERSION:2.0
BEGIN:VEVENT
URL:https://www.voisins.today/index.php/events/viewevent/112-a-quelle-heure-on-ment 
DTSTART:20181116T204500
DTEND:20181116T223000
SUMMARY:A quelle heure on ment?
DESCRIPTION:<p>A la veille de leur première représentation à Voisins-le-Bretonneux de la pièce « A
 quelle heure on ment », les comédiens ne sont pas prêts du tout ! </p><p>Il faut dire que leur vie mouvementée ne leur facilite pas la tâche. Peut-être que
 l’intervention de la police mettra de l’ordre dans ce tohu-bohu....ou pas…</p><p>Avec cette pièce dans la pièce, c’est une explosion de délire et de rire pour tous que
 vous propose le Petit Théâtre cette année. </p><p>Et de rire, on peut dire qu’on en a tous bien besoin…sans mentir.</p>
LOCATION:Salle de la Tour, Espace Decauville, 5 place de la division Leclerc, 78960 Voisins-le-Bretonneux
END:VEVENT
END:VCALENDAR