BEGIN:VCALENDAR
VERSION:2.0
BEGIN:VEVENT
URL:https://www.voisins.today/index.php/events/viewevent/109-exposition-d-oeuvres-diverses-realisees-par-les-accueillis-du-secours-catholique?groupid=33 
DTSTART:20180915T140000
DTEND:20180923T180000
SUMMARY:Exposition d'œuvres diverses réalisées par les accueillis du Secours Catholique
DESCRIPTION:<p>Les équipes du Secours Catholique de Guyancourt, Montigny le Bretonneux, Voisins le Bretonneux organisent une exposition des œuvres diverses (pour certaines, véritables d'art) réalisées dans les "accueils" de ces 3 villes....<br /></p><p>Selon la compétence des bénévoles présents ,  "accoucheurs" de talents ,les personnes accueillies réalisent peintures, sculptures, origamis,pliages , broderies , travaux divers de couture.....<br /></p><p>L'exposition a lieu à la "Maison Decauville" (place de la Division Leclerc )  appartenant, à la Municipalité de Voisins le Bretonneux, qui nous a BEAUCOUP aidés dans une fructueuse collaboration.</p>
LOCATION:Maison Decauville à Voisins le Bretonneux
END:VEVENT
END:VCALENDAR