BEGIN:VCALENDAR
VERSION:2.0
BEGIN:VEVENT
URL:https://www.voisins.today/index.php/events/viewevent/108-conference-sur-les-reflexes-archaiques 
DTSTART:20180917T203000
DTEND:20180917T223000
SUMMARY:Conférence sur les Réflexes Archaïques
DESCRIPTION:<p>Difficultés d'apprentissage, manque de confiance, hyperactivité, gestion des émotions, gestion du stress : et si c'était un réflexe archaïque </p><p>Les Réflexes Archaïques sont des mouvements automatiques qui émergent<em style="font-weight: bold;"> in utero </em>et restent actifs plusieurs mois après la naissance ; on a constaté chez certains enfants ou adultes que les réflexes archaïques ne s'étaient pas bien développés ou ne s'intégraient pas complètement. La persistance de ces réflexes créée un parasitage dans notre corps et lors d'un stress engendrent des comportements réactifs inadéquats et compromettent l'apprentissage ou notre façon d'agir. des techniques corporelles autour du mouvement permettent aujourd'hui d'y remédier...</p><p>LES REFLEXES ARCHAIQUES : UN NOUVEAU REGARD SUR NOS DIFFICULTES COGNITIVES EMOTIONNELLES, PHYSIQUES ET POSTURALES;</p><p>Une nouvelle approche pour lever les blocages et se sentir mieux dans ses baskets : l'intégration des Réflexes Archaïques</p>
LOCATION:Maison des Associations 37 avenue du Plan de l'Eglise 78960 Voisins-le-Bretonneux
END:VEVENT
END:VCALENDAR