BEGIN:VCALENDAR
VERSION:2.0
BEGIN:VEVENT
URL:https://www.voisins.today/index.php/events/viewevent/105-conference-l-enjeu-du-je-par-le-jeu 
DTSTART:20180604T203000
DTEND:20180604T223000
SUMMARY:Conférence l'enjeu du "JE" par le jeu
DESCRIPTION:<p>Les enfants apprennent en jouant, en comprenant le monde par l'expérimentation ; mais jouer c'est aussi être avec l'autre et créer des liens.</p><p>Nous vous proposons d'aborder ces thèmes dans notre intervention.</p><p>Nous vous donnerons des pistes en ce qui concerne les jeux que l'on peut proposer à l'enfant en fonction de son âge et de son stade de développement. </p><p>Ceci en ayant à l'esprit que le jeu peut partir d'un morceau de carton ou de ficelle...</p><p>Pour finir nous échangerons sur les impacts de la société sur le jeu des enfants aujourd'hui.</p><p>Conférence animée par Geneviève Colombier (infirmière DE) et Stéphanie VALON ( éducatrice spécialisée)</p><p>Entrée 5 €</p><p>GRATUIT pour les demandeurs d'emploi</p><p>Etudiant : inscription obligatoire sur le site https://voisinsadultesrelais.jimdo.com</p>
LOCATION:Maison des Associations, 37 avenue du plan de l'Eglise
END:VEVENT
END:VCALENDAR